Package: RiboDiPA Version: 1.17.1 Command: /Library/Frameworks/R.framework/Resources/bin/R CMD build --keep-empty-dirs --no-resave-data RiboDiPA StartedAt: 2025-10-19 19:03:46 -0400 (Sun, 19 Oct 2025) EndedAt: 2025-10-19 19:11:40 -0400 (Sun, 19 Oct 2025) EllapsedTime: 474.0 seconds RetCode: 0 Status: OK PackageFile: RiboDiPA_1.17.1.tar.gz PackageFileSize: 1.816 MiB