Package: RiboDiPA Version: 1.17.1 Command: rm -rf RiboDiPA.buildbin-libdir && mkdir RiboDiPA.buildbin-libdir && /Users/biocbuild/BBS/utils/build-universal.sh RiboDiPA_1.17.1.tar.gz /Library/Frameworks/R.framework/Resources/bin/R RiboDiPA.buildbin-libdir StartedAt: 2025-10-20 03:28:47 -0400 (Mon, 20 Oct 2025) EndedAt: 2025-10-20 03:30:05 -0400 (Mon, 20 Oct 2025) EllapsedTime: 77.3 seconds RetCode: 0 Status: OK PackageFile: RiboDiPA_1.17.1.tgz PackageFileSize: 1.539 MiB