Package: RiboDiPA Version: 1.17.1 Command: /Library/Frameworks/R.framework/Resources/bin/R CMD INSTALL RiboDiPA StartedAt: 2025-10-24 15:23:17 -0400 (Fri, 24 Oct 2025) EndedAt: 2025-10-24 15:23:37 -0400 (Fri, 24 Oct 2025) EllapsedTime: 19.8 seconds RetCode: 0 Status: OK