Package: RiboDiPA Version: 1.17.1 Command: /Library/Frameworks/R.framework/Resources/bin/R CMD check --install=check:RiboDiPA.install-out.txt --library=/Library/Frameworks/R.framework/Resources/library --no-vignettes --timings RiboDiPA_1.17.1.tar.gz StartedAt: 2025-10-26 21:26:05 -0400 (Sun, 26 Oct 2025) EndedAt: 2025-10-26 21:29:59 -0400 (Sun, 26 Oct 2025) EllapsedTime: 234.8 seconds RetCode: 0 Status: OK CheckDir: RiboDiPA.Rcheck Warnings: 0