Package: RiboDiPA Version: 1.17.1 Command: /Library/Frameworks/R.framework/Resources/bin/R CMD build --keep-empty-dirs --no-resave-data RiboDiPA StartedAt: 2025-10-24 17:31:32 -0400 (Fri, 24 Oct 2025) EndedAt: 2025-10-24 17:33:48 -0400 (Fri, 24 Oct 2025) EllapsedTime: 136.6 seconds RetCode: 0 Status: OK PackageFile: RiboDiPA_1.17.1.tar.gz PackageFileSize: 1.82 MiB