Package: RiboCrypt Version: 1.16.0 Command: rm -rf RiboCrypt.buildbin-libdir && mkdir RiboCrypt.buildbin-libdir && /Users/biocbuild/BBS/utils/build-universal.sh RiboCrypt_1.16.0.tar.gz /Library/Frameworks/R.framework/Resources/bin/R RiboCrypt.buildbin-libdir StartedAt: 2025-11-04 01:59:27 -0500 (Tue, 04 Nov 2025) EndedAt: 2025-11-04 02:00:44 -0500 (Tue, 04 Nov 2025) EllapsedTime: 77.0 seconds RetCode: 0 Status: OK PackageFile: RiboCrypt_1.16.0.tgz PackageFileSize: 12.62 MiB