Package: Rhisat2 Version: 1.26.0 Command: /Library/Frameworks/R.framework/Resources/bin/R CMD build --keep-empty-dirs --no-resave-data Rhisat2 StartedAt: 2025-11-03 18:28:05 -0500 (Mon, 03 Nov 2025) EndedAt: 2025-11-03 18:31:01 -0500 (Mon, 03 Nov 2025) EllapsedTime: 175.8 seconds RetCode: 0 Status: OK PackageFile: Rhisat2_1.26.0.tar.gz PackageFileSize: 6.745 MiB