Package: Rhisat2 Version: 1.26.0 Command: rm -rf Rhisat2.buildbin-libdir && mkdir Rhisat2.buildbin-libdir && /Users/biocbuild/BBS/utils/build-universal.sh Rhisat2_1.26.0.tar.gz /Library/Frameworks/R.framework/Resources/bin/R Rhisat2.buildbin-libdir StartedAt: 2025-11-04 01:59:21 -0500 (Tue, 04 Nov 2025) EndedAt: 2025-11-04 02:02:28 -0500 (Tue, 04 Nov 2025) EllapsedTime: 186.5 seconds RetCode: 0 Status: OK PackageFile: Rhisat2_1.26.0.tgz PackageFileSize: 1.201 MiB