Package: Rfastp Version: 1.19.0 Command: F:\biocbuild\bbs-3.22-bioc\R\bin\R.exe CMD check --no-multiarch --install=check:Rfastp.install-out.txt --library=F:\biocbuild\bbs-3.22-bioc\R\library --no-vignettes --timings Rfastp_1.19.0.tar.gz StartedAt: 2025-04-18 06:11:46 -0400 (Fri, 18 Apr 2025) EndedAt: 2025-04-18 06:13:08 -0400 (Fri, 18 Apr 2025) EllapsedTime: 82.6 seconds RetCode: 0 Status: OK CheckDir: Rfastp.Rcheck Warnings: 0