Package: Rfastp Version: 1.19.1 Command: chmod a+r Rfastp -R && F:\biocbuild\bbs-3.22-bioc\R\bin\R.exe CMD build --keep-empty-dirs --no-resave-data Rfastp StartedAt: 2025-08-14 22:44:37 -0400 (Thu, 14 Aug 2025) EndedAt: 2025-08-14 22:44:43 -0400 (Thu, 14 Aug 2025) EllapsedTime: 5.4 seconds RetCode: 1 Status: ERROR PackageFile: None PackageFileSize: NA