Package: Rfastp Version: 1.19.0 Command: rm -rf Rfastp.buildbin-libdir && mkdir Rfastp.buildbin-libdir && F:\biocbuild\bbs-3.22-bioc\R\bin\R.exe CMD INSTALL --build --library=Rfastp.buildbin-libdir Rfastp_1.19.0.tar.gz StartedAt: 2025-04-18 10:34:18 -0400 (Fri, 18 Apr 2025) EndedAt: 2025-04-18 10:36:13 -0400 (Fri, 18 Apr 2025) EllapsedTime: 114.7 seconds RetCode: 0 Status: OK PackageFile: Rfastp_1.19.0.zip PackageFileSize: 2.922 MiB