Package: ResidualMatrix Version: 1.19.0 Command: F:\biocbuild\bbs-3.22-bioc\R\bin\R.exe CMD check --no-multiarch --install=check:ResidualMatrix.install-out.txt --library=F:\biocbuild\bbs-3.22-bioc\R\library --no-vignettes --timings ResidualMatrix_1.19.0.tar.gz StartedAt: 2025-08-15 06:59:12 -0400 (Fri, 15 Aug 2025) EndedAt: 2025-08-15 07:02:54 -0400 (Fri, 15 Aug 2025) EllapsedTime: 222.1 seconds RetCode: 0 Status: OK CheckDir: ResidualMatrix.Rcheck Warnings: 0