Package: RepViz Version: 1.25.0 Command: F:\biocbuild\bbs-3.22-bioc\R\bin\R.exe CMD check --no-multiarch --install=check:RepViz.install-out.txt --library=F:\biocbuild\bbs-3.22-bioc\R\library --no-vignettes --timings RepViz_1.25.0.tar.gz StartedAt: 2025-08-15 06:58:58 -0400 (Fri, 15 Aug 2025) EndedAt: 2025-08-15 07:01:22 -0400 (Fri, 15 Aug 2025) EllapsedTime: 143.8 seconds RetCode: 0 Status: WARNINGS CheckDir: RepViz.Rcheck Warnings: 3