Package: RegionalST Version: 1.7.0 Command: /Library/Frameworks/R.framework/Resources/bin/R CMD INSTALL RegionalST StartedAt: 2025-10-02 15:51:12 -0400 (Thu, 02 Oct 2025) EndedAt: 2025-10-02 15:51:50 -0400 (Thu, 02 Oct 2025) EllapsedTime: 37.7 seconds RetCode: 0 Status: OK