Package: RegionalST Version: 1.7.0 Command: /Library/Frameworks/R.framework/Resources/bin/R CMD check --install=check:RegionalST.install-out.txt --library=/Library/Frameworks/R.framework/Resources/library --no-vignettes --timings RegionalST_1.7.0.tar.gz StartedAt: 2025-10-02 23:56:17 -0400 (Thu, 02 Oct 2025) EndedAt: 2025-10-03 00:01:07 -0400 (Fri, 03 Oct 2025) EllapsedTime: 290.0 seconds RetCode: 0 Status: OK CheckDir: RegionalST.Rcheck Warnings: 0