Package: RegionalST Version: 1.7.0 Command: /Library/Frameworks/R.framework/Resources/bin/R CMD build --keep-empty-dirs --no-resave-data RegionalST StartedAt: 2025-10-02 18:34:57 -0400 (Thu, 02 Oct 2025) EndedAt: 2025-10-02 18:37:05 -0400 (Thu, 02 Oct 2025) EllapsedTime: 128.0 seconds RetCode: 0 Status: OK PackageFile: RegionalST_1.7.0.tar.gz PackageFileSize: 4.356 MiB