Package: RegionalST Version: 1.8.0 Command: /Library/Frameworks/R.framework/Resources/bin/R CMD INSTALL RegionalST StartedAt: 2025-10-31 15:34:28 -0400 (Fri, 31 Oct 2025) EndedAt: 2025-10-31 15:34:39 -0400 (Fri, 31 Oct 2025) EllapsedTime: 11.4 seconds RetCode: 0 Status: OK