Package: RegionalST Version: 1.8.0 Command: /Library/Frameworks/R.framework/Resources/bin/R CMD check --install=check:RegionalST.install-out.txt --library=/Library/Frameworks/R.framework/Resources/library --no-vignettes --timings RegionalST_1.8.0.tar.gz StartedAt: 2025-11-05 22:06:54 -0500 (Wed, 05 Nov 2025) EndedAt: 2025-11-05 22:08:32 -0500 (Wed, 05 Nov 2025) EllapsedTime: 98.0 seconds RetCode: 0 Status: OK CheckDir: RegionalST.Rcheck Warnings: 0