Package: RegEnrich Version: 1.19.0 Command: /home/biocbuild/R/R/bin/R CMD check --install=check:RegEnrich.install-out.txt --library=/home/biocbuild/R/R/site-library --no-vignettes --timings RegEnrich_1.19.0.tar.gz StartedAt: 2025-09-30 11:57:40 -0000 (Tue, 30 Sep 2025) EndedAt: 2025-09-30 12:04:45 -0000 (Tue, 30 Sep 2025) EllapsedTime: 425.8 seconds RetCode: 0 Status: OK CheckDir: RegEnrich.Rcheck Warnings: 0