Package: RegEnrich Version: 1.19.0 Command: rm -rf RegEnrich.buildbin-libdir && mkdir RegEnrich.buildbin-libdir && F:\biocbuild\bbs-3.22-bioc\R\bin\R.exe CMD INSTALL --build --library=RegEnrich.buildbin-libdir RegEnrich_1.19.0.tar.gz StartedAt: 2025-08-15 11:06:09 -0400 (Fri, 15 Aug 2025) EndedAt: 2025-08-15 11:07:13 -0400 (Fri, 15 Aug 2025) EllapsedTime: 63.8 seconds RetCode: 0 Status: OK PackageFile: RegEnrich_1.19.0.zip PackageFileSize: 1.595 MiB