Package: ReducedExperiment Version: 1.1.2 Command: /home/biocbuild/R/R/bin/R CMD check --install=check:ReducedExperiment.install-out.txt --library=/home/biocbuild/R/R/site-library --no-vignettes --timings ReducedExperiment_1.1.2.tar.gz StartedAt: 2025-10-17 12:42:02 -0000 (Fri, 17 Oct 2025) EndedAt: 2025-10-17 12:50:48 -0000 (Fri, 17 Oct 2025) EllapsedTime: 525.8 seconds RetCode: 0 Status: OK CheckDir: ReducedExperiment.Rcheck Warnings: 0