Package: ReducedExperiment Version: 1.1.2 Command: /home/biocbuild/R/R/bin/R CMD build --keep-empty-dirs --no-resave-data ReducedExperiment StartedAt: 2025-10-17 03:54:21 -0000 (Fri, 17 Oct 2025) EndedAt: 2025-10-17 03:58:18 -0000 (Fri, 17 Oct 2025) EllapsedTime: 237.1 seconds RetCode: 0 Status: OK PackageFile: ReducedExperiment_1.1.2.tar.gz PackageFileSize: 1.862 MiB