Package: RedisParam Version: 1.11.0 Command: /home/biocbuild/R/R/bin/R CMD build --keep-empty-dirs --no-resave-data RedisParam StartedAt: 2025-10-21 02:22:40 -0000 (Tue, 21 Oct 2025) EndedAt: 2025-10-21 02:22:49 -0000 (Tue, 21 Oct 2025) EllapsedTime: 9.0 seconds RetCode: 0 Status: OK PackageFile: RedisParam_1.11.0.tar.gz PackageFileSize: 1001 KiB