Package: RedisParam Version: 1.11.0 Command: /home/biocbuild/bbs-3.22-bioc/R/bin/R CMD INSTALL RedisParam StartedAt: 2025-10-19 15:11:52 -0400 (Sun, 19 Oct 2025) EndedAt: 2025-10-19 15:12:05 -0400 (Sun, 19 Oct 2025) EllapsedTime: 13.6 seconds RetCode: 0 Status: OK