Package: RedisParam Version: 1.11.0 Command: /home/biocbuild/bbs-3.22-bioc/R/bin/R CMD check --install=check:RedisParam.install-out.txt --library=/home/biocbuild/bbs-3.22-bioc/R/site-library --timings RedisParam_1.11.0.tar.gz StartedAt: 2025-10-20 03:49:41 -0400 (Mon, 20 Oct 2025) EndedAt: 2025-10-20 03:50:07 -0400 (Mon, 20 Oct 2025) EllapsedTime: 26.0 seconds RetCode: 0 Status: OK CheckDir: RedisParam.Rcheck Warnings: 0