Package: RedisParam Version: 1.11.0 Command: /Library/Frameworks/R.framework/Resources/bin/R CMD INSTALL RedisParam StartedAt: 2025-10-20 15:06:03 -0400 (Mon, 20 Oct 2025) EndedAt: 2025-10-20 15:06:08 -0400 (Mon, 20 Oct 2025) EllapsedTime: 4.6 seconds RetCode: 0 Status: OK