Package: ReadqPCR Version: 1.55.0 Command: /home/biocbuild/R/R/bin/R CMD check --install=check:ReadqPCR.install-out.txt --library=/home/biocbuild/R/R/site-library --no-vignettes --timings ReadqPCR_1.55.0.tar.gz StartedAt: 2025-10-17 12:39:23 -0000 (Fri, 17 Oct 2025) EndedAt: 2025-10-17 12:39:56 -0000 (Fri, 17 Oct 2025) EllapsedTime: 32.1 seconds RetCode: 0 Status: OK CheckDir: ReadqPCR.Rcheck Warnings: 0