Package: ReadqPCR Version: 1.55.0 Command: chmod a+r ReadqPCR -R && F:\biocbuild\bbs-3.22-bioc\R\bin\R.exe CMD build --keep-empty-dirs --no-resave-data ReadqPCR StartedAt: 2025-08-14 22:40:59 -0400 (Thu, 14 Aug 2025) EndedAt: 2025-08-14 22:41:24 -0400 (Thu, 14 Aug 2025) EllapsedTime: 24.6 seconds RetCode: 0 Status: OK PackageFile: ReadqPCR_1.55.0.tar.gz PackageFileSize: 387.1 KiB