Package: ReadqPCR Version: 1.55.0 Command: rm -rf ReadqPCR.buildbin-libdir && mkdir ReadqPCR.buildbin-libdir && F:\biocbuild\bbs-3.22-bioc\R\bin\R.exe CMD INSTALL --build --library=ReadqPCR.buildbin-libdir ReadqPCR_1.55.0.tar.gz StartedAt: 2025-08-15 11:05:19 -0400 (Fri, 15 Aug 2025) EndedAt: 2025-08-15 11:05:46 -0400 (Fri, 15 Aug 2025) EllapsedTime: 26.5 seconds RetCode: 0 Status: OK PackageFile: ReadqPCR_1.55.0.zip PackageFileSize: 461 KiB