Package: ReadqPCR Version: 1.55.0 Command: /home/biocbuild/bbs-3.22-bioc/R/bin/R CMD INSTALL ReadqPCR StartedAt: 2025-10-20 15:12:00 -0400 (Mon, 20 Oct 2025) EndedAt: 2025-10-20 15:12:03 -0400 (Mon, 20 Oct 2025) EllapsedTime: 2.8 seconds RetCode: 0 Status: OK