Package: ReadqPCR Version: 1.55.0 Command: /home/biocbuild/bbs-3.22-bioc/R/bin/R CMD build --keep-empty-dirs --no-resave-data --md5 ReadqPCR StartedAt: 2025-10-20 19:29:19 -0400 (Mon, 20 Oct 2025) EndedAt: 2025-10-20 19:29:27 -0400 (Mon, 20 Oct 2025) EllapsedTime: 8.0 seconds RetCode: 0 Status: OK PackageFile: ReadqPCR_1.55.0.tar.gz PackageFileSize: 492.5 KiB