Package: ReadqPCR Version: 1.55.0 Command: /Library/Frameworks/R.framework/Resources/bin/R CMD check --install=check:ReadqPCR.install-out.txt --library=/Library/Frameworks/R.framework/Resources/library --no-vignettes --timings ReadqPCR_1.55.0.tar.gz StartedAt: 2025-10-22 23:30:50 -0400 (Wed, 22 Oct 2025) EndedAt: 2025-10-22 23:31:30 -0400 (Wed, 22 Oct 2025) EllapsedTime: 39.6 seconds RetCode: 0 Status: OK CheckDir: ReadqPCR.Rcheck Warnings: 0