Package: ReadqPCR Version: 1.55.0 Command: /Library/Frameworks/R.framework/Resources/bin/R CMD build --keep-empty-dirs --no-resave-data ReadqPCR StartedAt: 2025-10-22 18:19:54 -0400 (Wed, 22 Oct 2025) EndedAt: 2025-10-22 18:20:09 -0400 (Wed, 22 Oct 2025) EllapsedTime: 14.9 seconds RetCode: 0 Status: OK PackageFile: ReadqPCR_1.55.0.tar.gz PackageFileSize: 490 KiB