Package: ReactomePA Version: 1.53.0 Command: /Library/Frameworks/R.framework/Resources/bin/R CMD INSTALL ReactomePA StartedAt: 2025-10-19 15:42:44 -0400 (Sun, 19 Oct 2025) EndedAt: 2025-10-19 15:43:17 -0400 (Sun, 19 Oct 2025) EllapsedTime: 32.8 seconds RetCode: 0 Status: OK