Package: ReactomePA Version: 1.53.0 Command: /Library/Frameworks/R.framework/Resources/bin/R CMD build --keep-empty-dirs --no-resave-data ReactomePA StartedAt: 2025-10-19 18:59:48 -0400 (Sun, 19 Oct 2025) EndedAt: 2025-10-19 19:00:38 -0400 (Sun, 19 Oct 2025) EllapsedTime: 50.5 seconds RetCode: 0 Status: OK PackageFile: ReactomePA_1.53.0.tar.gz PackageFileSize: 57.2 KiB