Package: ReactomeGraph4R Version: 1.17.1 Command: /home/biocbuild/R/R/bin/R CMD build --keep-empty-dirs --no-resave-data ReactomeGraph4R StartedAt: 2025-10-21 02:21:38 -0000 (Tue, 21 Oct 2025) EndedAt: 2025-10-21 02:21:39 -0000 (Tue, 21 Oct 2025) EllapsedTime: 1.0 seconds RetCode: 1 Status: ERROR PackageFile: None PackageFileSize: NA