Package: ReactomeGraph4R Version: 1.17.1 Command: /home/biocbuild/bbs-3.22-bioc/R/bin/R CMD INSTALL ReactomeGraph4R StartedAt: 2025-10-20 16:06:08 -0400 (Mon, 20 Oct 2025) EndedAt: 2025-10-20 16:06:08 -0400 (Mon, 20 Oct 2025) EllapsedTime: 0.2 seconds RetCode: 1 Status: ERROR