Package: ReactomeGraph4R Version: 1.17.1 Command: /Library/Frameworks/R.framework/Resources/bin/R CMD build --keep-empty-dirs --no-resave-data ReactomeGraph4R StartedAt: 2025-10-19 18:59:38 -0400 (Sun, 19 Oct 2025) EndedAt: 2025-10-19 18:59:41 -0400 (Sun, 19 Oct 2025) EllapsedTime: 2.3 seconds RetCode: 1 Status: ERROR PackageFile: None PackageFileSize: NA