Package: Rcwl Version: 1.26.0 Command: /Library/Frameworks/R.framework/Resources/bin/R CMD build --keep-empty-dirs --no-resave-data Rcwl StartedAt: 2025-11-20 22:58:34 -0500 (Thu, 20 Nov 2025) EndedAt: 2025-11-20 23:12:45 -0500 (Thu, 20 Nov 2025) EllapsedTime: 851.1 seconds RetCode: 1 Status: ERROR PackageFile: None PackageFileSize: NA