Package: Rcpi Version: 1.45.0 Command: /Library/Frameworks/R.framework/Resources/bin/R CMD INSTALL Rcpi StartedAt: 2025-10-03 15:20:13 -0400 (Fri, 03 Oct 2025) EndedAt: 2025-10-03 15:20:19 -0400 (Fri, 03 Oct 2025) EllapsedTime: 6.2 seconds RetCode: 0 Status: OK