Package: Rcpi Version: 1.45.0 Command: /Library/Frameworks/R.framework/Resources/bin/R CMD check --install=check:Rcpi.install-out.txt --library=/Library/Frameworks/R.framework/Resources/library --no-vignettes --timings Rcpi_1.45.0.tar.gz StartedAt: 2025-10-03 21:13:07 -0400 (Fri, 03 Oct 2025) EndedAt: 2025-10-03 21:13:54 -0400 (Fri, 03 Oct 2025) EllapsedTime: 47.7 seconds RetCode: 0 Status: OK CheckDir: Rcpi.Rcheck Warnings: 0