Package: Rcpi Version: 1.45.0 Command: rm -rf Rcpi.buildbin-libdir && mkdir Rcpi.buildbin-libdir && /Users/biocbuild/BBS/utils/build-universal.sh Rcpi_1.45.0.tar.gz /Library/Frameworks/R.framework/Resources/bin/R Rcpi.buildbin-libdir StartedAt: 2025-10-03 22:51:50 -0400 (Fri, 03 Oct 2025) EndedAt: 2025-10-03 22:51:57 -0400 (Fri, 03 Oct 2025) EllapsedTime: 7.2 seconds RetCode: 0 Status: OK PackageFile: Rcpi_1.45.0.tgz PackageFileSize: 2.592 MiB