Package: Rcollectl Version: 1.9.0 Command: /home/biocbuild/R/R/bin/R CMD INSTALL Rcollectl StartedAt: 2025-10-16 21:20:06 -0000 (Thu, 16 Oct 2025) EndedAt: 2025-10-16 21:20:41 -0000 (Thu, 16 Oct 2025) EllapsedTime: 35.2 seconds RetCode: 0 Status: OK