Package: Rcollectl Version: 1.9.0 Command: /home/biocbuild/R/R/bin/R CMD build --keep-empty-dirs --no-resave-data Rcollectl StartedAt: 2025-10-17 03:51:47 -0000 (Fri, 17 Oct 2025) EndedAt: 2025-10-17 03:52:11 -0000 (Fri, 17 Oct 2025) EllapsedTime: 24.0 seconds RetCode: 1 Status: ERROR PackageFile: None PackageFileSize: NA