Package: Rcollectl Version: 1.9.0 Command: /home/biocbuild/bbs-3.22-bioc/R/bin/R CMD INSTALL Rcollectl StartedAt: 2025-10-19 15:11:01 -0400 (Sun, 19 Oct 2025) EndedAt: 2025-10-19 15:11:12 -0400 (Sun, 19 Oct 2025) EllapsedTime: 10.4 seconds RetCode: 0 Status: OK