Package: Rcollectl Version: 1.9.0 Command: /home/biocbuild/bbs-3.22-bioc/R/bin/R CMD check --install=check:Rcollectl.install-out.txt --library=/home/biocbuild/bbs-3.22-bioc/R/site-library --timings Rcollectl_1.9.0.tar.gz StartedAt: 2025-10-20 03:46:05 -0400 (Mon, 20 Oct 2025) EndedAt: 2025-10-20 03:47:53 -0400 (Mon, 20 Oct 2025) EllapsedTime: 108.1 seconds RetCode: 0 Status: OK CheckDir: Rcollectl.Rcheck Warnings: 0