Package: RbowtieCuda Version: 0.99.0 Command: F:\biocbuild\bbs-3.22-bioc\R\bin\R.exe CMD INSTALL RbowtieCuda StartedAt: 2025-04-08 15:24:45 -0400 (Tue, 08 Apr 2025) EndedAt: 2025-04-08 15:25:04 -0400 (Tue, 08 Apr 2025) EllapsedTime: 19.4 seconds RetCode: 1 Status: ERROR