Package: Rbowtie2 Version: 2.15.0 Command: /Library/Frameworks/R.framework/Resources/bin/R CMD INSTALL Rbowtie2 StartedAt: 2025-10-19 15:21:47 -0400 (Sun, 19 Oct 2025) EndedAt: 2025-10-19 15:26:01 -0400 (Sun, 19 Oct 2025) EllapsedTime: 253.8 seconds RetCode: 0 Status: OK