Package: Rbowtie2 Version: 2.15.0 Command: rm -rf Rbowtie2.buildbin-libdir && mkdir Rbowtie2.buildbin-libdir && /Users/biocbuild/BBS/utils/build-universal.sh Rbowtie2_2.15.0.tar.gz /Library/Frameworks/R.framework/Resources/bin/R Rbowtie2.buildbin-libdir StartedAt: 2025-10-20 03:27:25 -0400 (Mon, 20 Oct 2025) EndedAt: 2025-10-20 03:31:56 -0400 (Mon, 20 Oct 2025) EllapsedTime: 270.4 seconds RetCode: 0 Status: OK PackageFile: Rbowtie2_2.15.0.tgz PackageFileSize: 2.032 MiB