Package: Rbowtie Version: 1.49.0 Command: /home/biocbuild/R/R/bin/R CMD check --install=check:Rbowtie.install-out.txt --library=/home/biocbuild/R/R/site-library --no-vignettes --timings Rbowtie_1.49.0.tar.gz StartedAt: 2025-10-17 12:36:15 -0000 (Fri, 17 Oct 2025) EndedAt: 2025-10-17 12:36:36 -0000 (Fri, 17 Oct 2025) EllapsedTime: 21.0 seconds RetCode: 0 Status: OK CheckDir: Rbowtie.Rcheck Warnings: 0